BEGIN:VCALENDAR
VERSION:2.0
PRODID:-//The Darker Side of Austin - ECPv6.15.20//NONSGML v1.0//EN
CALSCALE:GREGORIAN
METHOD:PUBLISH
X-WR-CALNAME:The Darker Side of Austin
X-ORIGINAL-URL:https://www.thedarkersideofaustin.com
X-WR-CALDESC:Events for The Darker Side of Austin
REFRESH-INTERVAL;VALUE=DURATION:PT1H
X-Robots-Tag:noindex
X-PUBLISHED-TTL:PT1H
BEGIN:VTIMEZONE
TZID:America/Chicago
BEGIN:DAYLIGHT
TZOFFSETFROM:-0600
TZOFFSETTO:-0500
TZNAME:CDT
DTSTART:20240310T080000
END:DAYLIGHT
BEGIN:STANDARD
TZOFFSETFROM:-0500
TZOFFSETTO:-0600
TZNAME:CST
DTSTART:20241103T070000
END:STANDARD
BEGIN:DAYLIGHT
TZOFFSETFROM:-0600
TZOFFSETTO:-0500
TZNAME:CDT
DTSTART:20250309T080000
END:DAYLIGHT
BEGIN:STANDARD
TZOFFSETFROM:-0500
TZOFFSETTO:-0600
TZNAME:CST
DTSTART:20251102T070000
END:STANDARD
BEGIN:DAYLIGHT
TZOFFSETFROM:-0600
TZOFFSETTO:-0500
TZNAME:CDT
DTSTART:20260308T080000
END:DAYLIGHT
BEGIN:STANDARD
TZOFFSETFROM:-0500
TZOFFSETTO:-0600
TZNAME:CST
DTSTART:20261101T070000
END:STANDARD
END:VTIMEZONE
BEGIN:VEVENT
DTSTART;TZID=America/Chicago:20250905T180000
DTEND;TZID=America/Chicago:20250905T210000
DTSTAMP:20260423T154315
CREATED:20250717T152059Z
LAST-MODIFIED:20250717T152059Z
UID:10006058-1757095200-1757106000@www.thedarkersideofaustin.com
SUMMARY:Vicious Rumors & Labyrinth in Austin\, TX. With support from Spear Siege\, The Virulent & N.I.X.
DESCRIPTION:VICIOUS RUMORS IN AUSTIN\, TEXAS! \nThe return of the legends of Power Metal since 1979 will be performing at Kickbutt Coffee in Austin\, TX on Friday\, September 5th. Presenting their new album “The Devil’s Asylum” with Texas Thrashers LABYRINTH as direct support & local support from SPEAR SIEGE\, THE VIRULENT & N.I.X. \nDoors at 6:00PMShow at 7:00PM \nKickbutt Coffee is located at 5775 Airport Blvd. Suite 725\, Austin\, TX. \nhttps://www.facebook.com/events/1432768751085828/
URL:https://www.thedarkersideofaustin.com/event/vicious-rumors-labyrinth-in-austin-tx-with-support-from-spear-siege-the-virulent-n-i-x/
LOCATION:Kick Butt Coffee\, 5775 Airport Blvd. Suite 725\, Austin\, TX\, 78752\, United States
CATEGORIES:Concert
ORGANIZER;CN="Labyrinth":MAILTO:noreply@facebookmail.com
END:VEVENT
END:VCALENDAR