BEGIN:VCALENDAR
VERSION:2.0
PRODID:-//The Darker Side of Austin - ECPv6.15.20//NONSGML v1.0//EN
CALSCALE:GREGORIAN
METHOD:PUBLISH
X-ORIGINAL-URL:https://www.thedarkersideofaustin.com
X-WR-CALDESC:Events for The Darker Side of Austin
REFRESH-INTERVAL;VALUE=DURATION:PT1H
X-Robots-Tag:noindex
X-PUBLISHED-TTL:PT1H
BEGIN:VTIMEZONE
TZID:America/Chicago
BEGIN:DAYLIGHT
TZOFFSETFROM:-0600
TZOFFSETTO:-0500
TZNAME:CDT
DTSTART:20230312T080000
END:DAYLIGHT
BEGIN:STANDARD
TZOFFSETFROM:-0500
TZOFFSETTO:-0600
TZNAME:CST
DTSTART:20231105T070000
END:STANDARD
BEGIN:DAYLIGHT
TZOFFSETFROM:-0600
TZOFFSETTO:-0500
TZNAME:CDT
DTSTART:20240310T080000
END:DAYLIGHT
BEGIN:STANDARD
TZOFFSETFROM:-0500
TZOFFSETTO:-0600
TZNAME:CST
DTSTART:20241103T070000
END:STANDARD
BEGIN:DAYLIGHT
TZOFFSETFROM:-0600
TZOFFSETTO:-0500
TZNAME:CDT
DTSTART:20250309T080000
END:DAYLIGHT
BEGIN:STANDARD
TZOFFSETFROM:-0500
TZOFFSETTO:-0600
TZNAME:CST
DTSTART:20251102T070000
END:STANDARD
BEGIN:DAYLIGHT
TZOFFSETFROM:-0600
TZOFFSETTO:-0500
TZNAME:CDT
DTSTART:20260308T080000
END:DAYLIGHT
BEGIN:STANDARD
TZOFFSETFROM:-0500
TZOFFSETTO:-0600
TZNAME:CST
DTSTART:20261101T070000
END:STANDARD
END:VTIMEZONE
BEGIN:VEVENT
DTSTART;TZID=America/Chicago:20250227T190000
DTEND;TZID=America/Chicago:20250227T235900
DTSTAMP:20260422T011944
CREATED:20250227T043944Z
LAST-MODIFIED:20250227T044838Z
UID:10005775-1740682800-1740700740@www.thedarkersideofaustin.com
SUMMARY:BLUE DUNES\, DEVOTEES\, VENUSTRA & SOCIETY'S JOKE
DESCRIPTION:Doors at 7 P.M.! ALL AGES! $5 cover with BLUE DUNES at 8 P.M.\, DEVOTEES at 9 P.M.\, VENUSTRA at 10 P.M. & SOCIETY’S JOKE at 11 P.M. @ Kick Butt for a CapZeyeZ Taping February 27\, 2025 To be aired soon on Austin’s world famous Austin Public TV channel\, also to be streamed worldwide via the Austin Public App\, and YouTube! Come out & support local music! DIY!https://www.facebook.com/events/996386815669886/
URL:https://www.thedarkersideofaustin.com/event/blue-dunes-devotees-venustra-societys-joke-at-kick-butt-for-a-capzeyez-taping-2-27-25/
LOCATION:Kick Butt Coffee\, 5775 Airport Blvd. Suite 725\, Austin\, TX\, 78752\, United States
CATEGORIES:Alternative,Concert,Metal
ORGANIZER;CN="Capzeyez":MAILTO:noreply@facebookmail.com
END:VEVENT
BEGIN:VEVENT
DTSTART;TZID=America/Chicago:20240926T070000
DTEND;TZID=America/Chicago:20240926T235500
DTSTAMP:20260422T011944
CREATED:20240825T194917Z
LAST-MODIFIED:20240825T194917Z
UID:10005378-1727334000-1727394900@www.thedarkersideofaustin.com
SUMMARY:JENNY & THE JETS\, TARANTULA MOUNTAIN\, THE UNLIMITED STARS\, XSATANIST Kick Butt CapZeyeZ Taping 9/26!
DESCRIPTION:Doors at 7PM\, All Ages! $5! Advance tickets/donations to Venmo: https://account.venmo.com/u/David-Prewitt-48 PM-JENNY & THE JETS 9 PM-TARANTULA MOUNTAIN 10 PM-THE UNLIMITED STARS 11 PM XSATANIST at Kick Butt Coffee for CapZeyeZ Taping 9/26/2024 ! \nhttps://www.facebook.com/events/1432702327303808/
URL:https://www.thedarkersideofaustin.com/event/jenny-the-jets-tarantula-mountain-the-unlimited-stars-xsatanist-kick-butt-capzeyez-taping-9-26/
LOCATION:Kick Butt Coffee\, 5775 Airport Blvd. Suite 725\, Austin\, TX\, 78752\, United States
CATEGORIES:Alternative,Concert
ORGANIZER;CN="Capzeyez":MAILTO:noreply@facebookmail.com
END:VEVENT
END:VCALENDAR