BEGIN:VCALENDAR
VERSION:2.0
PRODID:-//The Darker Side of Austin - ECPv6.15.20//NONSGML v1.0//EN
CALSCALE:GREGORIAN
METHOD:PUBLISH
X-ORIGINAL-URL:https://www.thedarkersideofaustin.com
X-WR-CALDESC:Events for The Darker Side of Austin
REFRESH-INTERVAL;VALUE=DURATION:PT1H
X-Robots-Tag:noindex
X-PUBLISHED-TTL:PT1H
BEGIN:VTIMEZONE
TZID:America/Chicago
BEGIN:DAYLIGHT
TZOFFSETFROM:-0600
TZOFFSETTO:-0500
TZNAME:CDT
DTSTART:20240310T080000
END:DAYLIGHT
BEGIN:STANDARD
TZOFFSETFROM:-0500
TZOFFSETTO:-0600
TZNAME:CST
DTSTART:20241103T070000
END:STANDARD
BEGIN:DAYLIGHT
TZOFFSETFROM:-0600
TZOFFSETTO:-0500
TZNAME:CDT
DTSTART:20250309T080000
END:DAYLIGHT
BEGIN:STANDARD
TZOFFSETFROM:-0500
TZOFFSETTO:-0600
TZNAME:CST
DTSTART:20251102T070000
END:STANDARD
BEGIN:DAYLIGHT
TZOFFSETFROM:-0600
TZOFFSETTO:-0500
TZNAME:CDT
DTSTART:20260308T080000
END:DAYLIGHT
BEGIN:STANDARD
TZOFFSETFROM:-0500
TZOFFSETTO:-0600
TZNAME:CST
DTSTART:20261101T070000
END:STANDARD
END:VTIMEZONE
BEGIN:VEVENT
DTSTART;TZID=America/Chicago:20250919T190000
DTEND;TZID=America/Chicago:20250919T220000
DTSTAMP:20260424T102951
CREATED:20250416T032617Z
LAST-MODIFIED:20250416T032617Z
UID:10005887-1758308400-1758319200@www.thedarkersideofaustin.com
SUMMARY:Resound Presents: Cold Waves XIII 2025: with NITZER EBB\, FRONT LINE ASSEMBLY & More
DESCRIPTION:Resound Presents: Cold Waves XIII 2025 : Austin Edition with NITZER EBB\, FRONT LINE ASSEMBLY (Wax Trax! Era Set)\, and more at Mohawk on 9/19 \nDoors/Show: 7pm/8pm \nAll Ages \nhttps://www.etix.com/ticket/p/38264239/cold-waves-austin-mohawk-outdoor \nhttps://www.facebook.com/events/932338522178871/
URL:https://www.thedarkersideofaustin.com/event/resound-presents-cold-waves-xiii-2025-with-nitzer-ebb-front-line-assembly-more/
LOCATION:Mohawk Austin
CATEGORIES:Concert,Darkwave,Goth,Industrial
ORGANIZER;CN="Resound Presents":MAILTO:noreply@facebookmail.com
END:VEVENT
BEGIN:VEVENT
DTSTART;TZID=America/Chicago:20251025T190000
DTEND;TZID=America/Chicago:20251025T220000
DTSTAMP:20260424T102951
CREATED:20250606T172224Z
LAST-MODIFIED:20250606T172224Z
UID:10006014-1761418800-1761429600@www.thedarkersideofaustin.com
SUMMARY:Empire Presents: Gary Numan in the Garage
DESCRIPTION:Empire presents: Gary Numan at Empire Garage on October 25\, 2025 in Austin\, TX. \nDOORS / SHOW: 7:00 / 8:00 PM \nTickets: $35 – $40 \nAbout The Artist: May\, 1979. It’s an ordinary Thursday evening\, which means it’s time for Top of the Pops. Amidst a zeitgeist of punk and disco\, the show suddenly appears to be interrupted by a transmission from the future. A luminous synth riff echoes out\, a beat drives on and up steps an otherworldly figure – part robot\, part alien – to deliver an enigmatic lyric depicting some kind of android existence in a dystopian future. It’s Gary Numan fronting Tubeway Army for their breakthrough hit ‘Are ‘Friends’ Electric?’. \nOf the millions that are watching\, few would’ve recognised that this moment foreshadows the shape of music to come\, from synth-pop to industrial and alt-pop. That\, however\, can’t stop it igniting the imagination of an audience that would swell into a devoted following. \nFast-forward to January\, 2021. Numan’s first single ‘Intruder’ (from the Intruder album) pulsates ominously as if it’s soundtracking an imminent threat. As austere synths loom like shadows and industrial beats are detonated\, the beguiling hook towers like a beacon in the darkness. It’s visionary and venomous\, with a narrative that imagines the Earth growing angry at mankind’s actions\, and more than willing to fight back. In the accompanying video\, Numan looks even more out of time than he did back in 1979\, like an intergalactic refugee fighting for his own existence. \nThose two songs show how Numan has consistently fought against the grain to stick resolutely to his creative vision. In a career that spans over forty years\, the music evolves and the themes change. But fans remain fascinated by Numan for the very fact that he’s so uncompromising. \nAny story charting four decades will be a mixed blessing of momentous highs and meagre lows. The achievements are remarkable for someone who never made any concessions to mainstream success. Seven Top 10 singles\, including ‘Are ‘Friends’ Electric?’ and the debut solo hit ‘Cars’; eight Top 10 albums\, three of which topped the charts; and huge critical acclaim\, most notably with the Inspiration Award at the prestigious Ivor Novellos. \nNaturally\, there were times when Numan was very much not in vogue. Sure\, there would be ripples of rediscovery but there were years when his increasingly conceptual albums were primarily embraced by hardcore fans. He wasn’t troubling the charts\, but audiences were still flocking to see him perform – almost every UK tour would include a sold-out show at the 5000 capacity Hammersmith Apollo. \nGradually\, though\, praise from Nine Inch Nails\, Prince and David Bowie led to a reappraisal of his work. And that has been magnified in recent years with Kanye West\, Lady Gaga and Dave Grohl citing him as an influence. \nAnd so\, a new narrative emerged. An unlikely icon returned to the top while making music that was darker\, fiercer and more inventive than ever. \n‘Splinter (Songs From A Broken Mind)’ set the ball rolling by peaking at #20 in 2013\, its precise\, post-industrial sound delving into Numan’s experiences with depression. He started a new deal with BMG in 2017 and released ‘Savage (Songs From A Broken World)’\, an album which depicted earth as a barren wasteland in which humanity and culture had been largely crushed by the effects of global warming. ‘Savage’ hit #2 in the UK charts. \nHis next album\, ‘Intruder’\, presented a fresh but complementary narrative. It’s a philosophical examination of a potential future apocalypse: the planet can only survive by purging its inhabitants. ‘Intruder’ also hit #2 in the UK charts. \nNuman explained: “‘Intruder’ looks at climate change from the planet’s point of view. If the Earth could speak\, and feel things the way we do\, what would it say? How would it feel? The songs\, for the most part\, attempt to be that voice\, or at least try to express what I believe the earth must feel at the moment”. \nThe planet sees us as its children now grown into callous selfishness\, with a total disregard for its well being. It feels betrayed\, hurt and ravaged. Disillusioned and heartbroken it is now fighting back. Essentially\, it considers human kind to be a mistake\, a virus attacking the planet. Climate change is the undeniable sign of the Earth saying enough is enough\, and finally doing what it needs to do to get rid of us\, and explaining why it feels it has to do it.” \nPartially written and recorded during lockdown\, it’s no surprise that current circumstances have been assimilated into its themes. It’s especially evident in ‘The Gift’\, which evolves from a sparse introduction into a resonant Middle-Eastern sonic motif. It imagines Covid-19 as the first weapon that the planet deploys in order to eradicate mankind and once again flourish. \nWhile anger and vengeance rage in its opening chapters\, ‘Intruder’ charts a wider spectrum of emotions. ‘Is This World Not Enough’ and ‘A Black Sun’ exude regret and then despair that this fate could’ve been avoided. The finale presents a black-hearted double-bill to bring the curtain down on the tale. First ‘Now And Forever’ offers a hope of eternity in the end days during its theatrical intensity\, before the sparse\, sorrowful ‘The End Of Dragons’ ends on the chilling reminder that what’s broken can’t always be fixed. \nCollectively the album proves that Numan’s creative spark shows no sign of being extinguished. \nNuman toured the Intruder album at over 130 shows around the world\, finally ending in mid 2024 when he toured the US with Ministry. Since then he’s been back in the studio writing and recording his next (and 23rd) album\, due out in early 2026. This one looks at a near future world where humanity lives or dies based on the whims of an AI controlled system. He did take a few weeks out of the studio to play a major UK tour in the Fall to celebrate the 45th Anniversary of his ‘Replicas’ and ‘The Pleasure Principle’ albums\, both UK Number 1’s when first released. \nThat’s just a snapshot of the tale behind one of music’s most singular talents. The full story can be found in Numan’s critically acclaimed autobiography ‘(R)evolution’\, which The Observer described as an\, “exhaustive\, entertaining and often poignant life story.” What comes next will surely be just as intriguing. \nhttps://www.facebook.com/events/1209762863710261/
URL:https://www.thedarkersideofaustin.com/event/empire-presents-gary-numan-in-the-garage/
LOCATION:Empire Control Room & Garage
CATEGORIES:Concert,Electronic,Goth,Industrial
ORGANIZER;CN="Empire Control Room &amp%3B Garage":MAILTO:noreply@facebookmail.com
END:VEVENT
END:VCALENDAR