BEGIN:VCALENDAR
VERSION:2.0
PRODID:-//The Darker Side of Austin - ECPv6.15.20//NONSGML v1.0//EN
CALSCALE:GREGORIAN
METHOD:PUBLISH
X-ORIGINAL-URL:https://www.thedarkersideofaustin.com
X-WR-CALDESC:Events for The Darker Side of Austin
REFRESH-INTERVAL;VALUE=DURATION:PT1H
X-Robots-Tag:noindex
X-PUBLISHED-TTL:PT1H
BEGIN:VTIMEZONE
TZID:America/Chicago
BEGIN:DAYLIGHT
TZOFFSETFROM:-0600
TZOFFSETTO:-0500
TZNAME:CDT
DTSTART:20240310T080000
END:DAYLIGHT
BEGIN:STANDARD
TZOFFSETFROM:-0500
TZOFFSETTO:-0600
TZNAME:CST
DTSTART:20241103T070000
END:STANDARD
BEGIN:DAYLIGHT
TZOFFSETFROM:-0600
TZOFFSETTO:-0500
TZNAME:CDT
DTSTART:20250309T080000
END:DAYLIGHT
BEGIN:STANDARD
TZOFFSETFROM:-0500
TZOFFSETTO:-0600
TZNAME:CST
DTSTART:20251102T070000
END:STANDARD
BEGIN:DAYLIGHT
TZOFFSETFROM:-0600
TZOFFSETTO:-0500
TZNAME:CDT
DTSTART:20260308T080000
END:DAYLIGHT
BEGIN:STANDARD
TZOFFSETFROM:-0500
TZOFFSETTO:-0600
TZNAME:CST
DTSTART:20261101T070000
END:STANDARD
END:VTIMEZONE
BEGIN:VEVENT
DTSTART;TZID=America/Chicago:20250705T203000
DTEND;TZID=America/Chicago:20250705T233000
DTSTAMP:20260424T122459
CREATED:20250717T015841Z
LAST-MODIFIED:20250717T015841Z
UID:10006031-1751747400-1751758200@www.thedarkersideofaustin.com
SUMMARY:Blood Orchid w/ Most Modern\, Dread Risks\, and DJ Spider Godess
DESCRIPTION:Blood Orchidwith Special GuestsMost ModernDread Risksand DJ Spider Godess \nAdvance tickets available at Secret Oktober$15 (+ taxes and applicable fees)18+ \nhttps://www.facebook.com/events/636278749429546/
URL:https://www.thedarkersideofaustin.com/event/blood-orchid-w-most-modern-dread-risks-and-dj-spider-godess/
LOCATION:Elysium Austin\, 705 Red River St\, Austin\, TX\, 78701\, United States
CATEGORIES:Concert,Industrial
ORGANIZER;CN="Elysium Austin":MAILTO:noreply@facebookmail.com
END:VEVENT
END:VCALENDAR