BEGIN:VCALENDAR
VERSION:2.0
PRODID:-//The Darker Side of Austin - ECPv6.15.20//NONSGML v1.0//EN
CALSCALE:GREGORIAN
METHOD:PUBLISH
X-WR-CALNAME:The Darker Side of Austin
X-ORIGINAL-URL:https://www.thedarkersideofaustin.com
X-WR-CALDESC:Events for The Darker Side of Austin
REFRESH-INTERVAL;VALUE=DURATION:PT1H
X-Robots-Tag:noindex
X-PUBLISHED-TTL:PT1H
BEGIN:VTIMEZONE
TZID:America/Chicago
BEGIN:DAYLIGHT
TZOFFSETFROM:-0600
TZOFFSETTO:-0500
TZNAME:CDT
DTSTART:20240310T080000
END:DAYLIGHT
BEGIN:STANDARD
TZOFFSETFROM:-0500
TZOFFSETTO:-0600
TZNAME:CST
DTSTART:20241103T070000
END:STANDARD
BEGIN:DAYLIGHT
TZOFFSETFROM:-0600
TZOFFSETTO:-0500
TZNAME:CDT
DTSTART:20250309T080000
END:DAYLIGHT
BEGIN:STANDARD
TZOFFSETFROM:-0500
TZOFFSETTO:-0600
TZNAME:CST
DTSTART:20251102T070000
END:STANDARD
BEGIN:DAYLIGHT
TZOFFSETFROM:-0600
TZOFFSETTO:-0500
TZNAME:CDT
DTSTART:20260308T080000
END:DAYLIGHT
BEGIN:STANDARD
TZOFFSETFROM:-0500
TZOFFSETTO:-0600
TZNAME:CST
DTSTART:20261101T070000
END:STANDARD
END:VTIMEZONE
BEGIN:VEVENT
DTSTART;TZID=America/Chicago:20250502T183000
DTEND;TZID=America/Chicago:20250502T213000
DTSTAMP:20260424T152011
CREATED:20250227T050901Z
LAST-MODIFIED:20250227T050901Z
UID:10005745-1746210600-1746221400@www.thedarkersideofaustin.com
SUMMARY:Ministry with Special Guests Nitzer Ebb and Die Krupps
DESCRIPTION:Sale Dates and Times: \nPublic Onsale : Fri\, 14 Feb 2025 at 10:00 AM \nLive Nation Presale : Wed\, 12 Feb 2025 at 10:00 AM \nTicketmaster Presale : Wed\, 12 Feb 2025 at 10:00 AM \nBlabbermouth Presale : Thu\, 13 Feb 2025 at 10:00 AM \nSpotify Presale : Thu\, 13 Feb 2025 at 10:00 AM \nhttps://www.facebook.com/events/1340657893831118/
URL:https://www.thedarkersideofaustin.com/event/ministry-with-special-guests-nitzer-ebb-and-die-krupps/
LOCATION:Emo’s\, 2015 E Riverside Dr\, Austin\, TX\, 78741\, United States
CATEGORIES:Concert,Industrial
ORGANIZER;CN="Ticketmaster Events":MAILTO:noreply@facebookmail.com
END:VEVENT
BEGIN:VEVENT
DTSTART;TZID=America/Chicago:20250502T190000
DTEND;TZID=America/Chicago:20250502T220000
DTSTAMP:20260424T152011
CREATED:20250121T192042Z
LAST-MODIFIED:20250121T192042Z
UID:10005680-1746212400-1746223200@www.thedarkersideofaustin.com
SUMMARY:COLD
DESCRIPTION:COLD Celebrating 25 years of ’13 Ways to Bleed on Stage’ and 20 years of ‘A Different Kind of Pain’SEPTEMBER MOURNINGUNIVERSITY DRIVE \nFriday\, May 2\, 2025Come and Take It LiveDoors at 7:00 PM$25 ADV / $30 DOS \nhttps://www.facebook.com/events/953925816282559/
URL:https://www.thedarkersideofaustin.com/event/cold/
LOCATION:Come and Take It Live\, 2015 E Riverside Dr\, Bldg 4\, Austin\, TX\, 78741\, United States
CATEGORIES:Alternative,Concert,Industrial
ORGANIZER;CN="Come and Take It Productions":MAILTO:noreply@facebookmail.com
END:VEVENT
BEGIN:VEVENT
DTSTART;TZID=America/Chicago:20250510T210000
DTEND;TZID=America/Chicago:20250511T000000
DTSTAMP:20260424T152011
CREATED:20250415T150558Z
LAST-MODIFIED:20250415T150558Z
UID:10005866-1746910800-1746921600@www.thedarkersideofaustin.com
SUMMARY:CLAN OF XYMOX w/ Art Versus Industry and Llora
DESCRIPTION:CLAN OF XYMOX RETURNS!Join us for another intimate show with one of our favorite bands! with special guests Art Versus Industry and Llora \nAdvance tickets available now at Secret Oktober$27 (+applicable fees)18+ \nhttps://www.facebook.com/events/1142790237626256/
URL:https://www.thedarkersideofaustin.com/event/clan-of-xymox-w-art-versus-industry-and-llora/
LOCATION:Elysium Austin\, 705 Red River St\, Austin\, TX\, 78701\, United States
CATEGORIES:Concert,Goth,Industrial
ORGANIZER;CN="Elysium Austin":MAILTO:noreply@facebookmail.com
END:VEVENT
BEGIN:VEVENT
DTSTART;TZID=America/Chicago:20250524T213000
DTEND;TZID=America/Chicago:20250525T020000
DTSTAMP:20260424T152011
CREATED:20250415T150500Z
LAST-MODIFIED:20250415T150500Z
UID:10005868-1748122200-1748138400@www.thedarkersideofaustin.com
SUMMARY:World Goth Day Dance & Bazaar
DESCRIPTION:Calling all bats\, baby and elder!Elysium\, The Goth Oddities Bazaar\, and DJ Neph invite you to celebrate World Goth Day 2025 with a special dance night and bazaar \nDJs Neph and SpiderGoddess will play your favorite dark music from goth\, dark wave\, post punk\, and industrial to keep you dancing and shopping all night.Vendors of the Macabre:TBASpecial Drink Menu \n21+ $7Advance / $9 at door18+ $12 Advance / $14 at door \nDoors 930 PM18+ EventElysium Austin705 Red River \nhttps://www.facebook.com/events/9386449084807629/
URL:https://www.thedarkersideofaustin.com/event/world-goth-day-dance-bazaar/
LOCATION:Elysium Austin\, 705 Red River St\, Austin\, TX\, 78701\, United States
CATEGORIES:Darkwave,Event,Goth,Industrial
END:VEVENT
END:VCALENDAR