BEGIN:VCALENDAR
VERSION:2.0
PRODID:-//The Darker Side of Austin - ECPv6.15.20//NONSGML v1.0//EN
CALSCALE:GREGORIAN
METHOD:PUBLISH
X-ORIGINAL-URL:https://www.thedarkersideofaustin.com
X-WR-CALDESC:Events for The Darker Side of Austin
REFRESH-INTERVAL;VALUE=DURATION:PT1H
X-Robots-Tag:noindex
X-PUBLISHED-TTL:PT1H
BEGIN:VTIMEZONE
TZID:America/Chicago
BEGIN:DAYLIGHT
TZOFFSETFROM:-0600
TZOFFSETTO:-0500
TZNAME:CDT
DTSTART:20240310T080000
END:DAYLIGHT
BEGIN:STANDARD
TZOFFSETFROM:-0500
TZOFFSETTO:-0600
TZNAME:CST
DTSTART:20241103T070000
END:STANDARD
BEGIN:DAYLIGHT
TZOFFSETFROM:-0600
TZOFFSETTO:-0500
TZNAME:CDT
DTSTART:20250309T080000
END:DAYLIGHT
BEGIN:STANDARD
TZOFFSETFROM:-0500
TZOFFSETTO:-0600
TZNAME:CST
DTSTART:20251102T070000
END:STANDARD
BEGIN:DAYLIGHT
TZOFFSETFROM:-0600
TZOFFSETTO:-0500
TZNAME:CDT
DTSTART:20260308T080000
END:DAYLIGHT
BEGIN:STANDARD
TZOFFSETFROM:-0500
TZOFFSETTO:-0600
TZNAME:CST
DTSTART:20261101T070000
END:STANDARD
END:VTIMEZONE
BEGIN:VEVENT
DTSTART;TZID=America/Chicago:20250419T190000
DTEND;TZID=America/Chicago:20250419T220000
DTSTAMP:20260424T164349
CREATED:20241228T210458Z
LAST-MODIFIED:20241228T210458Z
UID:10005653-1745089200-1745100000@www.thedarkersideofaustin.com
SUMMARY:The Birthday Massacre\, Essenger\, and Magic Wands at Come and Take It Live!
DESCRIPTION:Come and Take It Productions presents… \nTHE BIRTHDAY MASSACREESSENGERMAGIC WANDS \nCome and Take It Live2015 E. Riverside Dr.\, Bldg. 4Austin\, TX 78741 \nSaturday\, April 19th\, 2025Doors open at 7:00 PM$25 ADV / $30 DOS \nAdvance tickets can be purchased here:https://www.etix.com/ticket/p/56840464/the-birthday-massacre-austin-come-and-take-it-live \nhttps://www.facebook.com/events/1219344435837387/
URL:https://www.thedarkersideofaustin.com/event/the-birthday-massacre-essenger-and-magic-wands-at-come-and-take-it-live/
LOCATION:Come and Take It Live\, 2015 E Riverside Dr\, Bldg 4\, Austin\, TX\, 78741\, United States
CATEGORIES:Concert,Goth,Industrial
ORGANIZER;CN="Come and Take It Productions":MAILTO:noreply@facebookmail.com
END:VEVENT
BEGIN:VEVENT
DTSTART;TZID=America/Chicago:20250426T213000
DTEND;TZID=America/Chicago:20250427T020000
DTSTAMP:20260424T164349
CREATED:20250415T150817Z
LAST-MODIFIED:20250415T150817Z
UID:10005862-1745703000-1745719200@www.thedarkersideofaustin.com
SUMMARY:8th Annual Gothic Prom: Bloodletting
DESCRIPTION:We cordially invite you to a night of darkness\, splendor and magic of Gothic Prom: Bloodletting \nShake on the shadows and dust off your dandy duds. Warm yourself on the dance floor and join us in the dark\, cold grasp of Prom. \nThis years theme is: Bloodetting – Come down by the river\, where its warm and green. have a drink and dance around. Dancing out in the garden in the middle of the night and you may never see the light. \nDJs Neph\, Sinsekt\, and Nephalem will be playing your favorite Goth\, Dark Wave\, Post Punk\, Synthpop\,Grave Wave\, and more \nGeneral Admission tickets available:21+ $12 advance / $16 at door18+ $16 advance / $21 at door \nGothic Prom Royalty Package: $125 advance – includes 2 General Admission Tickets. Plus: Decorated Reserved seating for two next to the dancefloor\, a bottle of sparkling wine aka champagne (must be 21 year or older)\, and DJs will announce and play your song for the two of you to dance to. \nGoth Prom Royalty voting will be available at the DJ booth with the royal court to be crowned at midnight!Photo Booth – take and purchase those classic prom pose photos in all your gothic splendor. \nVendors \nGo Go Dancing by The Gothic Prom Dancers \nDoors 930 PM18+ event w/ valid IDELYSIUM AUSTIN705 RED RIVER \nhttps://www.facebook.com/events/9149867528444309/
URL:https://www.thedarkersideofaustin.com/event/8th-annual-gothic-prom-bloodletting/
LOCATION:Elysium Austin\, 705 Red River St\, Austin\, TX\, 78701\, United States
CATEGORIES:Darkwave,Goth,Industrial,Synthpop
END:VEVENT
END:VCALENDAR