BEGIN:VCALENDAR
VERSION:2.0
PRODID:-//The Darker Side of Austin - ECPv6.15.20//NONSGML v1.0//EN
CALSCALE:GREGORIAN
METHOD:PUBLISH
X-WR-CALNAME:The Darker Side of Austin
X-ORIGINAL-URL:https://www.thedarkersideofaustin.com
X-WR-CALDESC:Events for The Darker Side of Austin
REFRESH-INTERVAL;VALUE=DURATION:PT1H
X-Robots-Tag:noindex
X-PUBLISHED-TTL:PT1H
BEGIN:VTIMEZONE
TZID:America/Chicago
BEGIN:DAYLIGHT
TZOFFSETFROM:-0600
TZOFFSETTO:-0500
TZNAME:CDT
DTSTART:20240310T080000
END:DAYLIGHT
BEGIN:STANDARD
TZOFFSETFROM:-0500
TZOFFSETTO:-0600
TZNAME:CST
DTSTART:20241103T070000
END:STANDARD
BEGIN:DAYLIGHT
TZOFFSETFROM:-0600
TZOFFSETTO:-0500
TZNAME:CDT
DTSTART:20250309T080000
END:DAYLIGHT
BEGIN:STANDARD
TZOFFSETFROM:-0500
TZOFFSETTO:-0600
TZNAME:CST
DTSTART:20251102T070000
END:STANDARD
BEGIN:DAYLIGHT
TZOFFSETFROM:-0600
TZOFFSETTO:-0500
TZNAME:CDT
DTSTART:20260308T080000
END:DAYLIGHT
BEGIN:STANDARD
TZOFFSETFROM:-0500
TZOFFSETTO:-0600
TZNAME:CST
DTSTART:20261101T070000
END:STANDARD
END:VTIMEZONE
BEGIN:VEVENT
DTSTART;TZID=America/Chicago:20250301T213000
DTEND;TZID=America/Chicago:20250302T003000
DTSTAMP:20260424T180801
CREATED:20250227T042902Z
LAST-MODIFIED:20250227T042902Z
UID:10005780-1740864600-1740875400@www.thedarkersideofaustin.com
SUMMARY:Haven
DESCRIPTION:HAVEN: Darkwave/Goth/industrial Synthpop with DJs VOIDAlex V and introducing DJ Sputnik \nhttps://www.facebook.com/events/971537381747411/
URL:https://www.thedarkersideofaustin.com/event/haven-2/
LOCATION:Elysium Austin\, 705 Red River St\, Austin\, TX\, 78701\, United States
CATEGORIES:Darkwave,Goth,Industrial,Party
ORGANIZER;CN="Elysium Austin":MAILTO:noreply@facebookmail.com
END:VEVENT
END:VCALENDAR