BEGIN:VCALENDAR
VERSION:2.0
PRODID:-//The Darker Side of Austin - ECPv6.15.20//NONSGML v1.0//EN
CALSCALE:GREGORIAN
METHOD:PUBLISH
X-WR-CALNAME:The Darker Side of Austin
X-ORIGINAL-URL:https://www.thedarkersideofaustin.com
X-WR-CALDESC:Events for The Darker Side of Austin
REFRESH-INTERVAL;VALUE=DURATION:PT1H
X-Robots-Tag:noindex
X-PUBLISHED-TTL:PT1H
BEGIN:VTIMEZONE
TZID:America/Chicago
BEGIN:DAYLIGHT
TZOFFSETFROM:-0600
TZOFFSETTO:-0500
TZNAME:CDT
DTSTART:20240310T080000
END:DAYLIGHT
BEGIN:STANDARD
TZOFFSETFROM:-0500
TZOFFSETTO:-0600
TZNAME:CST
DTSTART:20241103T070000
END:STANDARD
BEGIN:DAYLIGHT
TZOFFSETFROM:-0600
TZOFFSETTO:-0500
TZNAME:CDT
DTSTART:20250309T080000
END:DAYLIGHT
BEGIN:STANDARD
TZOFFSETFROM:-0500
TZOFFSETTO:-0600
TZNAME:CST
DTSTART:20251102T070000
END:STANDARD
BEGIN:DAYLIGHT
TZOFFSETFROM:-0600
TZOFFSETTO:-0500
TZNAME:CDT
DTSTART:20260308T080000
END:DAYLIGHT
BEGIN:STANDARD
TZOFFSETFROM:-0500
TZOFFSETTO:-0600
TZNAME:CST
DTSTART:20261101T070000
END:STANDARD
END:VTIMEZONE
BEGIN:VEVENT
DTSTART;TZID=America/Chicago:20250208T210000
DTEND;TZID=America/Chicago:20250209T020000
DTSTAMP:20260424T194122
CREATED:20241106T052508Z
LAST-MODIFIED:20241106T052508Z
UID:10005560-1739048400-1739066400@www.thedarkersideofaustin.com
SUMMARY:Atomic Cafe Reunion @ Elysium
DESCRIPTION:Join us for an unforgettable evening of dark\, underground music\, where late 80’s and 90’s Industrial\, Goth\, EBM\, and New Wave classics will fill the air\, just like the legendary Atomic Café days before it became Elysium. This special night celebrates the legacy of Atomic Café and the life and vision of its founder\, Randall Goodwin\, with his loving parents\, Ken & Beth\, who helped bring this iconic venue to life. \nFounded in Scottsdale and reborn in Austin\, Atomic Café carved out a space for the Industrial and Gothic scene\, leaving a lasting mark on the city’s music culture. Reunite with vintage and new friends\, share memories\, and enjoy a night of dark dance classics that defined an era. Atomic Café was a place of acceptance where anyone could go \, have fun\, and meet very open minded and welcoming people from all walks of life. \nDetails \n   * Doors open early for friends and family to gather\, socialize\, and honor those who have passed.   * Light a candle for our beloved friends who are no longer with us but remain in our hearts.   * Come for a night of timeless music\, camaraderie\, and celebration of Austin’s Industrial and Gothic roots. Dance the night away to your hearts content! \nhttps://www.facebook.com/events/555645814031130/
URL:https://www.thedarkersideofaustin.com/event/atomic-cafe-reunion-elysium/
LOCATION:Elysium Austin\, 705 Red River St\, Austin\, TX\, 78701\, United States
CATEGORIES:DJ,Industrial,Party
ORGANIZER;CN="Raleigh Melancon":MAILTO:noreply@facebookmail.com
END:VEVENT
BEGIN:VEVENT
DTSTART;TZID=America/Chicago:20250222T210000
DTEND;TZID=America/Chicago:20250223T000000
DTSTAMP:20260424T194122
CREATED:20250121T184410Z
LAST-MODIFIED:20250121T184410Z
UID:10005712-1740258000-1740268800@www.thedarkersideofaustin.com
SUMMARY:PSYCLON NINE w/ VentanA\, Antania\, and Requiem Rust
DESCRIPTION:PSYCLON NINE are bringing the Devil’s Work to the Elysium stage! With special guests VENTANA\, ANTANIA\, and REQUIEM RUST. \nAdvance tickets available via Secret Oktober$12 (+ applicable fees)18+ \nhttps://www.facebook.com/events/1647485695877476/
URL:https://www.thedarkersideofaustin.com/event/psyclon-nine-w-ventana-antania-and-requiem-rust/
LOCATION:Elysium Austin\, 705 Red River St\, Austin\, TX\, 78701\, United States
CATEGORIES:Concert,Industrial,Metal
ORGANIZER;CN="Elysium Austin":MAILTO:noreply@facebookmail.com
END:VEVENT
END:VCALENDAR