BEGIN:VCALENDAR
VERSION:2.0
PRODID:-//The Darker Side of Austin - ECPv6.15.20//NONSGML v1.0//EN
CALSCALE:GREGORIAN
METHOD:PUBLISH
X-ORIGINAL-URL:https://www.thedarkersideofaustin.com
X-WR-CALDESC:Events for The Darker Side of Austin
REFRESH-INTERVAL;VALUE=DURATION:PT1H
X-Robots-Tag:noindex
X-PUBLISHED-TTL:PT1H
BEGIN:VTIMEZONE
TZID:America/Chicago
BEGIN:DAYLIGHT
TZOFFSETFROM:-0600
TZOFFSETTO:-0500
TZNAME:CDT
DTSTART:20230312T080000
END:DAYLIGHT
BEGIN:STANDARD
TZOFFSETFROM:-0500
TZOFFSETTO:-0600
TZNAME:CST
DTSTART:20231105T070000
END:STANDARD
BEGIN:DAYLIGHT
TZOFFSETFROM:-0600
TZOFFSETTO:-0500
TZNAME:CDT
DTSTART:20240310T080000
END:DAYLIGHT
BEGIN:STANDARD
TZOFFSETFROM:-0500
TZOFFSETTO:-0600
TZNAME:CST
DTSTART:20241103T070000
END:STANDARD
BEGIN:DAYLIGHT
TZOFFSETFROM:-0600
TZOFFSETTO:-0500
TZNAME:CDT
DTSTART:20250309T080000
END:DAYLIGHT
BEGIN:STANDARD
TZOFFSETFROM:-0500
TZOFFSETTO:-0600
TZNAME:CST
DTSTART:20251102T070000
END:STANDARD
BEGIN:DAYLIGHT
TZOFFSETFROM:-0600
TZOFFSETTO:-0500
TZNAME:CDT
DTSTART:20260308T080000
END:DAYLIGHT
BEGIN:STANDARD
TZOFFSETFROM:-0500
TZOFFSETTO:-0600
TZNAME:CST
DTSTART:20261101T070000
END:STANDARD
END:VTIMEZONE
BEGIN:VEVENT
DTSTART;TZID=America/Chicago:20241222T180000
DTEND;TZID=America/Chicago:20241222T210000
DTSTAMP:20260424T230115
CREATED:20241125T023937Z
LAST-MODIFIED:20241125T023937Z
UID:10005613-1734890400-1734901200@www.thedarkersideofaustin.com
SUMMARY:A Skylit Drive\, Vampires Everywhere\, Ovtlier\, Imaginary Me and NDGO
DESCRIPTION:Come and Take It Productions presents… \nA SKYLIT DRIVEVAMPIRES EVERYWHEREOVTLIERIMAGINARY MENDGO \nCome and Take It Live2015 E Riverside DrBldg 4Austin\, TX 78741 \nSunday\, December 22nd\, 2024Doors at 6:00 PM$20 ADV / $25 DOS \nAdvance tickets can be purchased here:https://www.etix.com/ticket/p/66926652/a-skylit-drivecelebrating-15-years-of-adelphiaaustin-austin-come-and-take-it-live \nhttps://www.facebook.com/events/389774947528004/
URL:https://www.thedarkersideofaustin.com/event/a-skylit-drive-vampires-everywhere-ovtlier-imaginary-me-and-ndgo/
LOCATION:Come and Take It Live\, 2015 E Riverside Dr\, Bldg 4\, Austin\, TX\, 78741\, United States
CATEGORIES:Concert,Industrial,Metal
ORGANIZER;CN="Come and Take It Productions":MAILTO:noreply@facebookmail.com
END:VEVENT
BEGIN:VEVENT
DTSTART;TZID=America/Chicago:20241231T210000
DTEND;TZID=America/Chicago:20250101T020000
DTSTAMP:20260424T230115
CREATED:20241228T205629Z
LAST-MODIFIED:20241228T205629Z
UID:10005662-1735678800-1735696800@www.thedarkersideofaustin.com
SUMMARY:The Elysium New Years Eve Ball
DESCRIPTION:We cordially invite you to ring in the arrival of 2025 at your favorite Austin night club. \nThe Elysium New Year’s Eve Ball brings all of your favorite Elysium dance nights together\, such as Sunday’s Regression 80s\, Wednesday’s Bombastic 90s Dance Night\, and Saturday’s Haven. Ring in the new year and dance to your favorites 80s\, 90s\, and Goth hits from your favorite ELysisum dance nights. \ntangelo will be your MC and help you ring in the new year.Performances by (show starts at 1030p):Amelie AhmoseRoc GaudeStellar ManxJack Rabid \nGeneral Admission tickets available: $21 \nElysium Ball Royalty Package: $199 – includes 2 General Admission Tickets. Plus: Decorated Reserved seating for two next to the dancefloor\, 1 bottle of sparkling wine (must be 21 year or older) Announcement of your arrival at ball\, and DJs will announce and play your song for the two of you to dance to. \nDoors 900PM21+ event w/ valid IDELYSIUM AUSTIN705 RED RIVER \nhttps://www.facebook.com/events/440027965811007/
URL:https://www.thedarkersideofaustin.com/event/the-elysium-new-years-eve-ball/
LOCATION:Elysium Austin\, 705 Red River St\, Austin\, TX\, 78701\, United States
CATEGORIES:Goth,Industrial,New Wave,Party,Synthpop
END:VEVENT
END:VCALENDAR