BEGIN:VCALENDAR
VERSION:2.0
PRODID:-//The Darker Side of Austin - ECPv6.15.20//NONSGML v1.0//EN
CALSCALE:GREGORIAN
METHOD:PUBLISH
X-WR-CALNAME:The Darker Side of Austin
X-ORIGINAL-URL:https://www.thedarkersideofaustin.com
X-WR-CALDESC:Events for The Darker Side of Austin
REFRESH-INTERVAL;VALUE=DURATION:PT1H
X-Robots-Tag:noindex
X-PUBLISHED-TTL:PT1H
BEGIN:VTIMEZONE
TZID:America/Chicago
BEGIN:DAYLIGHT
TZOFFSETFROM:-0600
TZOFFSETTO:-0500
TZNAME:CDT
DTSTART:20230312T080000
END:DAYLIGHT
BEGIN:STANDARD
TZOFFSETFROM:-0500
TZOFFSETTO:-0600
TZNAME:CST
DTSTART:20231105T070000
END:STANDARD
BEGIN:DAYLIGHT
TZOFFSETFROM:-0600
TZOFFSETTO:-0500
TZNAME:CDT
DTSTART:20240310T080000
END:DAYLIGHT
BEGIN:STANDARD
TZOFFSETFROM:-0500
TZOFFSETTO:-0600
TZNAME:CST
DTSTART:20241103T070000
END:STANDARD
BEGIN:DAYLIGHT
TZOFFSETFROM:-0600
TZOFFSETTO:-0500
TZNAME:CDT
DTSTART:20250309T080000
END:DAYLIGHT
BEGIN:STANDARD
TZOFFSETFROM:-0500
TZOFFSETTO:-0600
TZNAME:CST
DTSTART:20251102T070000
END:STANDARD
END:VTIMEZONE
BEGIN:VEVENT
DTSTART;TZID=America/Chicago:20240706T210000
DTEND;TZID=America/Chicago:20240707T000000
DTSTAMP:20260425T071956
CREATED:20240603T191031Z
LAST-MODIFIED:20240603T191031Z
UID:10005306-1720299600-1720310400@www.thedarkersideofaustin.com
SUMMARY:INDUSTRIAL CYNICS TOUR AUSTIN: feat Dread Risks\, spankthenun\, MATT HART (UK)
DESCRIPTION:INDUSTRIAL CYNICS TOUR rolls in to Austin with hometown faves Dread Risks\, MATT HART (London ?? ) making his Elysium debut\, and spankthenun from Dallas.\nThis is gonna be a banger of a show so get your tickets soon.\nAvailable via Secret Oktober\n$10 (+ taxes & fees)
URL:https://www.thedarkersideofaustin.com/event/industrial-cynics-tour-austin-feat-dread-risks-spankthenun-matt-hart-uk/
LOCATION:Elysium Austin\, 705 Red River St\, Austin\, TX\, 78701\, United States
CATEGORIES:Concert,Electronic,Industrial
ORGANIZER;CN="Elysium Austin":MAILTO:noreply@facebookmail.com
END:VEVENT
END:VCALENDAR