BEGIN:VCALENDAR
VERSION:2.0
PRODID:-//The Darker Side of Austin - ECPv6.15.20//NONSGML v1.0//EN
CALSCALE:GREGORIAN
METHOD:PUBLISH
X-ORIGINAL-URL:https://www.thedarkersideofaustin.com
X-WR-CALDESC:Events for The Darker Side of Austin
REFRESH-INTERVAL;VALUE=DURATION:PT1H
X-Robots-Tag:noindex
X-PUBLISHED-TTL:PT1H
BEGIN:VTIMEZONE
TZID:America/Chicago
BEGIN:DAYLIGHT
TZOFFSETFROM:-0600
TZOFFSETTO:-0500
TZNAME:CDT
DTSTART:20230312T080000
END:DAYLIGHT
BEGIN:STANDARD
TZOFFSETFROM:-0500
TZOFFSETTO:-0600
TZNAME:CST
DTSTART:20231105T070000
END:STANDARD
BEGIN:DAYLIGHT
TZOFFSETFROM:-0600
TZOFFSETTO:-0500
TZNAME:CDT
DTSTART:20240310T080000
END:DAYLIGHT
BEGIN:STANDARD
TZOFFSETFROM:-0500
TZOFFSETTO:-0600
TZNAME:CST
DTSTART:20241103T070000
END:STANDARD
BEGIN:DAYLIGHT
TZOFFSETFROM:-0600
TZOFFSETTO:-0500
TZNAME:CDT
DTSTART:20250309T080000
END:DAYLIGHT
BEGIN:STANDARD
TZOFFSETFROM:-0500
TZOFFSETTO:-0600
TZNAME:CST
DTSTART:20251102T070000
END:STANDARD
END:VTIMEZONE
BEGIN:VEVENT
DTSTART;TZID=America/Chicago:20240622T190000
DTEND;TZID=America/Chicago:20240623T000000
DTSTAMP:20260425T085833
CREATED:20240420T172727Z
LAST-MODIFIED:20240603T173319Z
UID:10005271-1719082800-1719100800@www.thedarkersideofaustin.com
SUMMARY:Dark Ritual: An Evening of Goth\, Darkwave\, Post-Punk Music
DESCRIPTION:Join us for a night of dancing to Goth\, Post-Punk\, Darkwave Music with Djs Von Strange & Spider Goddess. This is a FREE\, All Ages event at Captain Quackenbush’s Coffeehouse. Quack’s offers a full alcohol bar along with non alcohol options: mocktails\, teas\, coffee\, juices & pastries. Try out the food truck Weird Food for Halal Mediterranean food: Gyros\, Shawarma\, Falafel\, Hummus & more.\nhttps://www.facebook.com/events/405870402305030/
URL:https://www.thedarkersideofaustin.com/event/dark-ritual-an-evening-of-goth-darkwave-post-punk-music/
LOCATION:Captain Quack’s Coffeehouse
CATEGORIES:Darkwave,DJ,Goth,Industrial
ORGANIZER;CN="Secret Oktober":MAILTO:secretoktober23@gmail.com
END:VEVENT
END:VCALENDAR